BEGIN:VCALENDAR
VERSION:2.0
PRODID:-//wp-events-plugin.com//7.2.3.1//EN
TZID:Europe/London
X-WR-TIMEZONE:Europe/London
BEGIN:VEVENT
UID:869@orpingtonliberalclub.co.uk
DTSTART;TZID=Europe/London:20240907T140000
DTEND;TZID=Europe/London:20240907T170000
DTSTAMP:20240826T052031Z
URL:https://orpingtonliberalclub.co.uk/events/mark-binder/
SUMMARY:Mark Binder
DESCRIPTION:The US-based storyteller Mark Binder will visit OLC as part of 
 a world tour.\n\nMark spins spellbinding stories\, some for adults\, some 
 for families and children. He has performed in parking lots and basements\
 , theatres\, festivals\, pubs\, churches\, synagogues\, nightclubs\, and s
 chools.\n\nHe has written more than two dozen books including original and
  traditional folktales\, outrageous "autobiographical lies" &amp\; a serie
 s of books about Village Life under the pen name Izzy Abrahmson.\n\nGerlad
 ine Ann Ford will MC the afternoon with support from Co-host Tony Cranston
  of Talking Stories Radio fame.\n\nFloorspots from spoken word acts (poets
 \, storytellers\, musicians and singers\, are welcome during the course of
  the afternoon.\n\nIf the weather is good\, the event will take place in t
 he Club Garden moving into the Hall if weather is poor.\n\nEntry is free f
 or Club/CAMRA members\, with a £1 charge to non-members who attend as gue
 sts.\n\nThere'll be a cash hat collection for Mark\, who will also be sell
 ing and signing his books and other merchandise.\n\nThe OLC premises and C
 AMRA award-winning bar will be open from 12.30pm. It’s a CARD payment on
 ly.\n\n&nbsp\;
CATEGORIES:Other
END:VEVENT
BEGIN:VTIMEZONE
TZID:Europe/London
X-LIC-LOCATION:Europe/London
BEGIN:DAYLIGHT
DTSTART:20240331T020000
TZOFFSETFROM:+0000
TZOFFSETTO:+0100
TZNAME:BST
END:DAYLIGHT
END:VTIMEZONE
END:VCALENDAR