BEGIN:VCALENDAR
VERSION:2.0
PRODID:-//wp-events-plugin.com//7.2.3.1//EN
TZID:Europe/London
X-WR-TIMEZONE:Europe/London
BEGIN:VEVENT
UID:1126@orpingtonliberalclub.co.uk
DTSTART;TZID=Europe/London:20250304T192000
DTEND;TZID=Europe/London:20250304T220000
DTSTAMP:20250202T171239Z
URL:https://orpingtonliberalclub.co.uk/events/linde-nijland-bert-ridderbos
 -nl-ado-matheson-edacques/
SUMMARY:Linde Nijland & Bert Ridderbos (NL)\, with Ado Matheson & Edacques
DESCRIPTION:\n\nNOT TO BE MISSED. The OLC welcomes back our very special fr
 iends from the Netherlands\, Linde Nijland and Bert Ridderdos.\nLinde has 
 been described as the "best folk singer of the Netherlands".\nShe has been
  performing and recording for many years with multi-instrumentalist Bert R
 idderbos on guitars\, cittern\, accordion\, banjo\, and dobro. Together th
 ey tour all over Europe\, and the OLC is pleased to host them during their
  latest UK visit.\n\nThey will be performing two 45-minute sets of their o
 wn fantastic compositions together with breathtaking renditions of Sandy D
 enny's songs\, which showcase Linde's incredible voice.\nThe concert begin
 s at 7.30pm with the pre-booked support acts and we'll aim to open the hal
 l doors 10 minutes beforehand.\nIt's £9 CASH on the door. Seats are unres
 erved. However\, you can secure places in advance by emailing event host J
 ohn Edwards at Vinylitus@outlook.com.\nThe club premises with its CAMRA aw
 ard-winning bar (CARD payment only) will be open from 6.15 pm. Entry is fr
 ee to OLC members with a £1 charge to others payable at the bar.
CATEGORIES:Music
END:VEVENT
BEGIN:VTIMEZONE
TZID:Europe/London
X-LIC-LOCATION:Europe/London
BEGIN:STANDARD
DTSTART:20241027T010000
TZOFFSETFROM:+0100
TZOFFSETTO:+0000
TZNAME:GMT
END:STANDARD
END:VTIMEZONE
END:VCALENDAR