BEGIN:VCALENDAR
VERSION:2.0
PRODID:-//wp-events-plugin.com//7.2.3.1//EN
TZID:Europe/London
X-WR-TIMEZONE:Europe/London
BEGIN:VEVENT
UID:1342@orpingtonliberalclub.co.uk
DTSTART;TZID=Europe/London:20260520T193000
DTEND;TZID=Europe/London:20260520T222000
DTSTAMP:20260422T085538Z
URL:https://orpingtonliberalclub.co.uk/events/linde-nijland-and-bert-ridde
 rdos/
SUMMARY:Linde Nijland and Bert Ridderdos
DESCRIPTION:OLC welcomes back our very special friends from the Netherlands
 \, Linde Nijland and Bert Ridderdos\, on their latest UK visit.\n\nLinde h
 as been described as the "best folk singer of the Netherlands". For many y
 ears\, she has been performing and recording with multi-instrumentalist Be
 rt Ridderbos on guitars\, cittern\, accordion\, banjo\, and dobro. Togethe
 r\, they tour all over Europe.\n\nThey will be performing 2x45-minute sets
  of their own fantastic compositions together with breathtaking renditions
  of Sandy Denny's songs\, which showcase Linde's incredible voice.\n\nThe 
 concert begins at 7.30pm with pre-booked support &amp\; floorspots\, The f
 loorspot time is limited but we'll aim to squeeze in as many performers as
  possible.\n\nThe hall opens 10 minutes before the start.. It's £9 CASH o
 n the door. Seats are unreserved.\n\nThe club premises &amp\; CAMRA award-
 winning bar will be open on the day from 6.15 pm. - card payments only.\n\
 nFree entry to OLC/CAMRA members &amp\; £1 to non-members payable at the 
 bar.\n\n&nbsp\;
CATEGORIES:Music
END:VEVENT
BEGIN:VTIMEZONE
TZID:Europe/London
X-LIC-LOCATION:Europe/London
BEGIN:DAYLIGHT
DTSTART:20260329T020000
TZOFFSETFROM:+0000
TZOFFSETTO:+0100
TZNAME:BST
END:DAYLIGHT
END:VTIMEZONE
END:VCALENDAR