BEGIN:VCALENDAR
VERSION:2.0
PRODID:-//wp-events-plugin.com//7.2.3.1//EN
TZID:Europe/London
X-WR-TIMEZONE:Europe/London
BEGIN:VEVENT
UID:1128@orpingtonliberalclub.co.uk
DTSTART;TZID=Europe/London:20250322T193000
DTEND;TZID=Europe/London:20250322T223000
DTSTAMP:20250210T095836Z
URL:https://orpingtonliberalclub.co.uk/events/knees-up-theme-night/
SUMMARY:Knees Up Theme Night
DESCRIPTION:&nbsp\;\n\nA very special Knees Up Theme Night... Cockney to Sa
 uff London... featuring Harmonica Lewinsky with his big repertoire of song
 s from Music Hall to Chas n Dave &amp\; times in between.\n\nAs with last 
 year's highly successful Music Hall Night we'll welcome a glittering array
  of pre-booked slots. The MC will be Gel Ford &amp\; in addition to Music 
 Hall &amp\; Variety Show\, we'll stretch the boundaries to post-war songs 
 &amp\; spoken word\, but all need to have a London Accent with an emphasis
  on cheeky\, chirpy\, saucy &amp\; joining-inny.\n\nIf you're interested i
 n getting up &amp\; doing a turn\, please touch base with Paul Green in go
 od time &amp\; let him know what you have in mind. Opportunities will be l
 imited due to time constraints.\n\nThere's a need to work things out in ad
 vance so performers are in topic\, won't all be doing the same songs &amp\
 ; we have some idea of timings.\n\nDressing up in theme costumes is welcom
 e but not compulsory.\n\nThere will be a CASH hat collection for Harmonika
  Lewinsky. The suggested minimum contribution is £6\, but please give a l
 ittle more if you can afford it.\n\nFree entry to OLC members\, £1 to non
 -members\, payable at the bar.\n\nThe club premises &amp\; CAMRA award-win
 ning bar will be open on the day from 7.00 pm. It's CARD payments only.
CATEGORIES:Music
END:VEVENT
BEGIN:VTIMEZONE
TZID:Europe/London
X-LIC-LOCATION:Europe/London
BEGIN:STANDARD
DTSTART:20241027T010000
TZOFFSETFROM:+0100
TZOFFSETTO:+0000
TZNAME:GMT
END:STANDARD
END:VTIMEZONE
END:VCALENDAR