BEGIN:VCALENDAR
VERSION:2.0
PRODID:-//wp-events-plugin.com//7.2.3.1//EN
TZID:Europe/London
X-WR-TIMEZONE:Europe/London
BEGIN:VEVENT
UID:1200@orpingtonliberalclub.co.uk
DTSTART;TZID=Europe/London:20251115T193000
DTEND;TZID=Europe/London:20251115T223000
DTSTAMP:20251109T073305Z
URL:https://orpingtonliberalclub.co.uk/events/kindred-2/
SUMMARY:Kindred
DESCRIPTION:A welcome return to OLC of the excellent Kindred\, who perform 
 a mix of 'Traditional' UK and European folk rock songs and tunes as well a
 s some from the Americana Folk Tradition folk idiom. All done in their own
  particular style where FOLK ROCKS!\n\nWith Nick Bidgood on Bass\, Steve A
 ndrew on Drums\, Glen Page on lead vocal\, electro-acoustic guitar and fid
 dle and Tim Constable on lead guitar. The boys play with energy\, convicti
 on and some ability and will get\, and keep\, you on your feet.\n\nWe kick
  off the evening with Open Mic for the first 40 minutes. and as a special 
 bonus the second half will start with a support slot from singer and guita
 rist Pauline Gaunt who regularly performs as a member of Under the Influen
 ce and is a co-host of the Tuesday Night Orpington Acoustic session at the
  club.\n\nPayment is by hat collection in CASH for the guests\, with £6 m
 inimum suggested. But please give more if you can afford it. the money has
  to be split a number of ways.\n\nThe club premises and CAMRA award-winnin
 g bar (CARD Payments Only) open on the night at 7 p.m. It’s free entry t
 o OLC members and £1 to others\, payable at the bar.
CATEGORIES:Music
END:VEVENT
BEGIN:VTIMEZONE
TZID:Europe/London
X-LIC-LOCATION:Europe/London
BEGIN:STANDARD
DTSTART:20251026T010000
TZOFFSETFROM:+0100
TZOFFSETTO:+0000
TZNAME:GMT
END:STANDARD
END:VTIMEZONE
END:VCALENDAR