BEGIN:VCALENDAR
VERSION:2.0
PRODID:-//wp-events-plugin.com//7.2.3.1//EN
TZID:Europe/London
X-WR-TIMEZONE:Europe/London
BEGIN:VEVENT
UID:1210@orpingtonliberalclub.co.uk
DTSTART;TZID=Europe/London:20251230T193000
DTEND;TZID=Europe/London:20251230T221500
DTSTAMP:20251122T074142Z
URL:https://orpingtonliberalclub.co.uk/events/kevin-henty-and-matthew-engl
 ish/
SUMMARY:Kevin Henty and Matthew English
DESCRIPTION:We welcome the return of larger-than-life singer\, guitarist an
 d melodeon player Kevin Henty and talented young virtuoso violinist Matthe
 w English.\n\nThe duo are in-demand guests on the Kent &amp\; SE Folk circ
 uit with their heady mix of foot-tapping tunes and humorous songs\, includ
 ing special seasonal numbers.\n\nFloorspots to start with contributions fr
 om singers\, musicians and poets all welcome.\nSmall PA available for plug
 -in &amp\; play.\n\nPayment is by CASH hat collection which all goes to th
 e guests. The suggested minimum contribution is £6. but please give a bit
  more if you can afford it.\n\nThe premises and OLC's CAMRA award-winning 
 bar (CARD payments only) will be open from 6.15 pm.\n\nClub/CAMRA members 
 enjoy Free entry to the premises\, and others pay a £1 charge at the bar.
 \n\n&nbsp\;
CATEGORIES:Music
END:VEVENT
BEGIN:VTIMEZONE
TZID:Europe/London
X-LIC-LOCATION:Europe/London
BEGIN:STANDARD
DTSTART:20251026T010000
TZOFFSETFROM:+0100
TZOFFSETTO:+0000
TZNAME:GMT
END:STANDARD
END:VTIMEZONE
END:VCALENDAR