BEGIN:VCALENDAR
VERSION:2.0
PRODID:-//wp-events-plugin.com//7.2.3.1//EN
TZID:Europe/London
X-WR-TIMEZONE:Europe/London
BEGIN:VEVENT
UID:1162@orpingtonliberalclub.co.uk
DTSTART;TZID=Europe/London:20250628T103000
DTEND;TZID=Europe/London:20250628T180000
DTSTAMP:20250528T071052Z
URL:https://orpingtonliberalclub.co.uk/events/joint-social-to-hastings/
SUMMARY:Joint social to Hastings
DESCRIPTION:\nPlease find details of the joint social day out to Hastings o
 n the Bromley CAMRA website.
CATEGORIES:Other,Real Ale
END:VEVENT
BEGIN:VTIMEZONE
TZID:Europe/London
X-LIC-LOCATION:Europe/London
BEGIN:DAYLIGHT
DTSTART:20250330T020000
TZOFFSETFROM:+0000
TZOFFSETTO:+0100
TZNAME:BST
END:DAYLIGHT
END:VTIMEZONE
END:VCALENDAR