BEGIN:VCALENDAR
VERSION:2.0
PRODID:-//wp-events-plugin.com//7.2.3.1//EN
TZID:Europe/London
X-WR-TIMEZONE:Europe/London
BEGIN:VEVENT
UID:1168@orpingtonliberalclub.co.uk
DTSTART;TZID=Europe/London:20250719T193000
DTEND;TZID=Europe/London:20250719T223000
DTSTAMP:20250623T054146Z
URL:https://orpingtonliberalclub.co.uk/events/jo-honey-nigel-brunt-nathan-
 persad/
SUMMARY:Jo Honey\, Nigel Brunt & Nathan Persad
DESCRIPTION:\n\nThree accomplished musicians &amp\; superb entertainers wit
 h mastery of everything from rock &amp\; pop\, crooning to classical &amp\
 ; points in between. It's gonna be a marvellous night.\n\nLively floorspot
 s to start - turn up early if you'd like to put your name down to do a tur
 n.\n\nCASH hat collection for guests suggested min £6\, please give a lit
 tle more if you can afford it.\n\nCAMRA Award Winning Bar (CARD payments o
 nly)\n\nPremises open from 7.00pm on the night.\n\nFree entry OLC members/
  £1 others payable at the bar
CATEGORIES:Music
END:VEVENT
BEGIN:VTIMEZONE
TZID:Europe/London
X-LIC-LOCATION:Europe/London
BEGIN:DAYLIGHT
DTSTART:20250330T020000
TZOFFSETFROM:+0000
TZOFFSETTO:+0100
TZNAME:BST
END:DAYLIGHT
END:VTIMEZONE
END:VCALENDAR