BEGIN:VCALENDAR
VERSION:2.0
PRODID:-//wp-events-plugin.com//7.2.3.1//EN
TZID:Europe/London
X-WR-TIMEZONE:Europe/London
BEGIN:VEVENT
UID:1198@orpingtonliberalclub.co.uk
DTSTART;TZID=Europe/London:20251104T193000
DTEND;TZID=Europe/London:20251104T221500
DTSTAMP:20251009T063240Z
URL:https://orpingtonliberalclub.co.uk/events/jo-girdlestone-spring-chicke
 ns/
SUMMARY:Jo Girdlestone & Spring Chickens
DESCRIPTION:\nThe November First Tuesday Guest Night at OLC is a double bil
 l featuring Jo Girdlestone &amp\; Spring Chickens.\n\nWe're delighted to w
 elcome Jo back to OLC following her outstanding songwriters circle perform
 ance earlier in the year. She writes original songs\, connected to her sen
 se of personal roots\, nature\, &amp\; spirituality\, to willow strain gui
 tar accompaniments\, with a fine singing voice &amp\; warm stage presence.
 \n\nSpring Chickens are an accomplished SE London based trio comprising of
  John &amp\; Deirdre Hollingum plus long time pal Keith Ferris. Together t
 hey play a lively mix of original &amp\; traditional songs alongside music
  by their favourite artists. Their signature harmonies &amp\; varied instr
 umentation is guaranteed to put a smile on your face.\n\nWe start the even
 ing with floorspots followed by sets of around 45 min each from the guests
  with a mid-evening break at around 9.\n\nIf you'd like to perform\, pleas
 e come early and flag up your intentions on arrival to avoid disappointmen
 t. We're open to poets in addition to singers\, musicians\, and\, of cours
 e\, an audience.\n\nThere'll be PA available with mics &amp\; leads for pl
 ugin &amp\; play.\n\nA hat collection in CASH goes to the guests\, with a 
 suggested minimum contribution of £6 per head. Please give more if you ca
 n afford it\, they are first class act.\n\nThe CAMRA award-winning bar wil
 l be open from 6.15 pm. CARD payments only.\n\nIt’s free entry to OLC me
 mbers &amp\; £1 to others payable at the bar.\n\n&nbsp\;
CATEGORIES:Music
END:VEVENT
BEGIN:VTIMEZONE
TZID:Europe/London
X-LIC-LOCATION:Europe/London
BEGIN:STANDARD
DTSTART:20251026T010000
TZOFFSETFROM:+0100
TZOFFSETTO:+0000
TZNAME:GMT
END:STANDARD
END:VTIMEZONE
END:VCALENDAR