BEGIN:VCALENDAR
VERSION:2.0
PRODID:-//wp-events-plugin.com//7.2.3.1//EN
TZID:Europe/London
X-WR-TIMEZONE:Europe/London
BEGIN:VEVENT
UID:1171@orpingtonliberalclub.co.uk
DTSTART;TZID=Europe/London:20250816T183000
DTEND;TZID=Europe/London:20250816T210000
DTSTAMP:20250723T061602Z
URL:https://orpingtonliberalclub.co.uk/events/jimmy-van-lin-and-frank-perc
 y-with-floorspots/
SUMMARY:Jimmy Van Lin and Frank Percy - Garden Gig
DESCRIPTION:Accomplished musicians Jimmy Van Lin (Mandolin/Fiddle/Vocals) &
 amp\; Frank Percy (Double Bass/Vocals) from the JVL Band will play a livel
 y selection from their vast repertoire covering Country\, Rock\, Pop\, Jaz
 z\, Folk classics &amp\; more.\n\nWe also welcome entertaining floorspots 
 from singers\, musicians &amp\; poets.\n\nWeather permitting\, we aim to s
 tage the music out in the garden. If not\, we'll move it into the hall.\n\
 nThe event coincides with the club's annual summer cider festival\, when t
 he bar will be selling many additional still ciders along with its usual C
 AMRA award-winning selection of draught real ales and other drinks.(its CA
 RD payment only). The bar will be open from 12 pm to 11pm.\n\nIt's free en
 try to OLC &amp\; CAMRA members. Everyone else needs to buy a festival ent
 ry ticket from the bar. These cost £1.00\, and are valid for the whole we
 ekend.\n\nAdditionally\, there will have a hat collection in CASH for the 
 main act with a suggested minimum of £6.
CATEGORIES:Music
END:VEVENT
BEGIN:VTIMEZONE
TZID:Europe/London
X-LIC-LOCATION:Europe/London
BEGIN:DAYLIGHT
DTSTART:20250330T020000
TZOFFSETFROM:+0000
TZOFFSETTO:+0100
TZNAME:BST
END:DAYLIGHT
END:VTIMEZONE
END:VCALENDAR