BEGIN:VCALENDAR
VERSION:2.0
PRODID:-//wp-events-plugin.com//7.2.3.1//EN
TZID:Europe/London
X-WR-TIMEZONE:Europe/London
BEGIN:VEVENT
UID:1300@orpingtonliberalclub.co.uk
DTSTART;TZID=Europe/London:20260221T200000
DTEND;TZID=Europe/London:20260221T223000
DTSTAMP:20260131T100141Z
URL:https://orpingtonliberalclub.co.uk/events/jane-taylor/
SUMMARY:Jane Taylor
DESCRIPTION:Another great night promised for just £12 with wonderful singe
 r/songwriter Jane Taylor. Message Steve Wehrle if you want to reserve tick
 ets.\n\nThe premises and OLC's CAMRA award-winning bar (CARD payments only
 ) will be open from 7.30pm.\n\nClub/CAMRA members enjoy free entry to the 
 premises\, and others pay a £1 charge at the bar.\n\n&nbsp\;
CATEGORIES:Music
END:VEVENT
BEGIN:VTIMEZONE
TZID:Europe/London
X-LIC-LOCATION:Europe/London
BEGIN:STANDARD
DTSTART:20251026T010000
TZOFFSETFROM:+0100
TZOFFSETTO:+0000
TZNAME:GMT
END:STANDARD
END:VTIMEZONE
END:VCALENDAR