BEGIN:VCALENDAR
VERSION:2.0
PRODID:-//wp-events-plugin.com//7.2.3.1//EN
TZID:Europe/London
X-WR-TIMEZONE:Europe/London
BEGIN:VEVENT
UID:795@orpingtonliberalclub.co.uk
DTSTART;TZID=Europe/London:20240417T194500
DTEND;TZID=Europe/London:20240417T213000
DTSTAMP:20240322T062145Z
URL:https://orpingtonliberalclub.co.uk/events/illustrated-talk-on-classica
 l-guitar/
SUMMARY:Illustrated Talk on Classical Guitar - Paul Brown
DESCRIPTION:A talk about the history and development of the classical guita
 r\, with live music to illustrate the story.\n\nCome and discover the peop
 le who shaped the journey of the instrument into one which is loved by so 
 many today.\n\nPayment by hat collection in CASH – suggested donation of
  £5.\n\nThe CAMRA award-winning bar (CARD payments only) &amp\; club prem
 ises are open on the night from 6.15 pm
CATEGORIES:Music
END:VEVENT
BEGIN:VTIMEZONE
TZID:Europe/London
X-LIC-LOCATION:Europe/London
BEGIN:DAYLIGHT
DTSTART:20240331T020000
TZOFFSETFROM:+0000
TZOFFSETTO:+0100
TZNAME:BST
END:DAYLIGHT
END:VTIMEZONE
END:VCALENDAR