BEGIN:VCALENDAR
VERSION:2.0
PRODID:-//wp-events-plugin.com//7.2.3.1//EN
TZID:Europe/London
X-WR-TIMEZONE:Europe/London
BEGIN:VEVENT
UID:1191@orpingtonliberalclub.co.uk
DTSTART;TZID=Europe/London:20251015T194500
DTEND;TZID=Europe/London:20251015T213000
DTSTAMP:20250910T055418Z
URL:https://orpingtonliberalclub.co.uk/events/illustrated-talk-history-dev
 elopment-of-crooning/
SUMMARY:Illustrated Talk: History & Development of Crooning
DESCRIPTION:\n"Following last year’s talk about Classical Guitar\, I’m 
 returning to Orpington Liberal Club  to present an illustrated talk on Cr
 ooning. If you would like to find out more about the history and developme
 nt of this genre\, please save the 15th of October and come along" Paul Br
 own.\n\nPayment by hat collection in CASH – suggested minimum donation o
 f £5 but please consider giving more if you can afford it.\n\nThe CAMRA a
 ward-winning bar (CARD payments only) &amp\; club premises are open on the
  night from 6.15 pm\n\nIt's free entry to OLC members &amp\; £1 to others
  payable at the bar.
CATEGORIES:Other
END:VEVENT
BEGIN:VTIMEZONE
TZID:Europe/London
X-LIC-LOCATION:Europe/London
BEGIN:DAYLIGHT
DTSTART:20250330T020000
TZOFFSETFROM:+0000
TZOFFSETTO:+0100
TZNAME:BST
END:DAYLIGHT
END:VTIMEZONE
END:VCALENDAR