BEGIN:VCALENDAR
VERSION:2.0
PRODID:-//wp-events-plugin.com//7.2.3.1//EN
TZID:Europe/London
X-WR-TIMEZONE:Europe/London
BEGIN:VEVENT
UID:558@orpingtonliberalclub.co.uk
DTSTART;TZID=Europe/London:20251227T193000
DTEND;TZID=Europe/London:20251227T223000
DTSTAMP:20251122T074905Z
URL:https://orpingtonliberalclub.co.uk/events/huskies-night-2025-12-26/
SUMMARY:Yuletide Huskies Night
DESCRIPTION:Huskies Night is a broad church set up by funding father Dave S
 ilk. Singers\, musicians\, poets\, and spoken word acts are encouraged to 
 get up for a floor spot\, either performing solo or benefiting from a firs
 t-class backing band made up of accomplished jazz musicians.\nRegulars inc
 lude singers JACCI NORRIS and MIEKO KANAI\, Guitarist SIMON GOODWIN\, Pian
 ist RICHARD SIMMONS\, Bass player JOHN PEAD and percussionist BRYAN BRITTO
 N.Another highlight of these evenings is a raffle for a can of spam and ot
 her super prizes to die for\, especially for Yuletide\, will include a bag
  of leftover Brussels sprouts and a hat collection in CASH for the musicia
 ns\, with a suggested minimum of £5.\nThe club premises and CAMRA award-w
 inning bar will be open from 19.00 hrs. The bar accepts CARD payments only
 .Entry is free to OLC and CAMRA members\, £1 to non-members.
CATEGORIES:Music
END:VEVENT
BEGIN:VTIMEZONE
TZID:Europe/London
X-LIC-LOCATION:Europe/London
BEGIN:STANDARD
DTSTART:20251026T010000
TZOFFSETFROM:+0100
TZOFFSETTO:+0000
TZNAME:GMT
END:STANDARD
END:VTIMEZONE
END:VCALENDAR