BEGIN:VCALENDAR
VERSION:2.0
PRODID:-//wp-events-plugin.com//7.2.3.1//EN
TZID:Europe/London
X-WR-TIMEZONE:Europe/London
BEGIN:VEVENT
UID:541@orpingtonliberalclub.co.uk
DTSTART;TZID=Europe/London:20240726T193000
DTEND;TZID=Europe/London:20240726T223000
DTSTAMP:20250225T072750Z
URL:https://orpingtonliberalclub.co.uk/events/huskies-night-2024-07-26/
SUMMARY:Huskies Night
DESCRIPTION:Huskies Night is a broad church set up by funding father Dave S
 ilk. Singers\, musicians\, poets\, and spoken word acts are encouraged to 
 get up for a floor spot\, either performing solo or benefiting from a firs
 t-class backing band made up of accomplished jazz musicians.Regulars inclu
 de singers JACCI NORRIS &amp\; MIEKO KANAI\, Guitarist SIMON GOODWIN\, Pia
 nist RICHARD SIMMONS\, Bass player JOHN PEAD\, &amp\; percussionist BRYAN 
 BRITTON.Another highlight is a raffle for a can of spam and other super pr
 izes to die for\, with a hat collection in CASH for the musicians\, with a
  suggested minimum of £5.The club premises &amp\; CAMRA award-winning bar
  will be open from 17.30 hrs. It's CARD payment only.It’s free entry to 
 OLC &amp\; CAMRA members &amp\; £1 to non-members.
CATEGORIES:Music
END:VEVENT
BEGIN:VTIMEZONE
TZID:Europe/London
X-LIC-LOCATION:Europe/London
BEGIN:DAYLIGHT
DTSTART:20240331T020000
TZOFFSETFROM:+0000
TZOFFSETTO:+0100
TZNAME:BST
END:DAYLIGHT
END:VTIMEZONE
END:VCALENDAR