BEGIN:VCALENDAR
VERSION:2.0
PRODID:-//wp-events-plugin.com//7.2.3.1//EN
TZID:Europe/London
X-WR-TIMEZONE:Europe/London
BEGIN:VEVENT
UID:798@orpingtonliberalclub.co.uk
DTSTART;TZID=Europe/London:20240412T193000
DTEND;TZID=Europe/London:20240412T223000
DTSTAMP:20240322T133056Z
URL:https://orpingtonliberalclub.co.uk/events/hunter-musket/
SUMMARY:Hunter Muskett
DESCRIPTION:OLC welcomes Hunter Muskett\, a legendary acoustic/electric 3-p
 iece playing distinctive original songs in a folky\, bluesy\, sometimes Am
 ericana vein for a very special evening.\nChris George\, Terry Hiscock &am
 p\; Doug Morter formed the group in 1968 whilst still at college &amp\; du
 ring the early 1970s\, they played clubs\, colleges\, &amp\; festivals at 
 home and abroad\, recording two\, now collectable\, albums ‘Every Time Y
 ou Move’ (1970) &amp\; 'Hunter Muskett' (1973) before calling a day in 7
 4.\n\nThey reformed in 2010 following the re-release of their classic 1st 
 album\, resumed touring &amp\; have since recorded two new albums to criti
 cal acclaim 'That Was Then\, This Is Now' (2013) &amp\; 'Unafraid &amp\; S
 ober' (2017)\, with founder members Hiscock &amp\; Morter being currently 
 joined by Rog Trevitt.\n\nFrom 7.30 pm until 8.15 pm\, we're open to livel
 y floorspots before HM comes on to play their first of two sets. Singers\,
  musicians\, and poets are welcome. Come early if you'd like to do a turn.
  Time is limited\, and we'll try to fit in as many as possible. Please be 
 ready when you're called and keep it short and sweet—this part of the ev
 ening won't be allowed to overrun!!\n\nA hat collection in CASH goes in it
 s entirety to the guests. The suggested minimum contribution is £8\, but 
 please give a little bit more if you can afford it.\n\nThe club premises &
 amp\; CAMRA award-winning bar will be open on the day from 5.30 pm. It's C
 ARD payments only free entry to OLC members &amp\; £1 to non-members.
CATEGORIES:Music,Rock
END:VEVENT
BEGIN:VTIMEZONE
TZID:Europe/London
X-LIC-LOCATION:Europe/London
BEGIN:DAYLIGHT
DTSTART:20240331T020000
TZOFFSETFROM:+0000
TZOFFSETTO:+0100
TZNAME:BST
END:DAYLIGHT
END:VTIMEZONE
END:VCALENDAR