BEGIN:VCALENDAR
VERSION:2.0
PRODID:-//wp-events-plugin.com//7.2.3.1//EN
TZID:Europe/London
X-WR-TIMEZONE:Europe/London
BEGIN:VEVENT
UID:1124@orpingtonliberalclub.co.uk
DTSTART;TZID=Europe/London:20250222T193000
DTEND;TZID=Europe/London:20250222T223000
DTSTAMP:20250124T090643Z
URL:https://orpingtonliberalclub.co.uk/events/hope-augustus-simon-goodwin-
 brian-miller/
SUMMARY:Hope Augustus\, Simon Goodwin & Brian Miller
DESCRIPTION:Classy singer HOPE AUGUSTUS teams up with ace guitarists SIMON 
 GOODWIN\, BRIAN MILLER &amp\; special guests to hit Orpington Liberal Club
  for a Saturday Night of Popular Jazz with a gypsy accent\, Blues\, Soul\,
  Spirituals &amp\; more.\n\nThe club premises &amp\; bar open at 19.00 hrs
 . We kick off at 19.30 with floorspots before bringing on the guests for t
 he 1st of their 2 sets. We're open to musicians\, singers\, poets &amp\; s
 poken word. Please come early on the night &amp\; flag up your intentions 
 if you'd like to do a turn.\n\nIt's free entry to OLC Members with a £1 c
 harge to non-members. They'll be a hat collection for the guests in CASH w
 ith a suggested minimum contribution of £6. Please give a bit more if you
  can afford it.\n\nThe CAMRA award-winning club bar (CARD PAYMENT only) sp
 ecialises in well-kept cask ales &amp\; farmhouse ciders.
CATEGORIES:Music
END:VEVENT
BEGIN:VTIMEZONE
TZID:Europe/London
X-LIC-LOCATION:Europe/London
BEGIN:STANDARD
DTSTART:20241027T010000
TZOFFSETFROM:+0100
TZOFFSETTO:+0000
TZNAME:GMT
END:STANDARD
END:VTIMEZONE
END:VCALENDAR