BEGIN:VCALENDAR
VERSION:2.0
PRODID:-//wp-events-plugin.com//7.2.3.1//EN
TZID:Europe/London
X-WR-TIMEZONE:Europe/London
BEGIN:VEVENT
UID:1182@orpingtonliberalclub.co.uk
DTSTART;TZID=Europe/London:20250920T193000
DTEND;TZID=Europe/London:20250920T223000
DTSTAMP:20250825T054657Z
URL:https://orpingtonliberalclub.co.uk/events/honey-i-punkd-the-hits-the-u
 nready/
SUMMARY:Honey\, I Punk'd The Hit's & The Unready
DESCRIPTION:2 Amazing bands on Saturday night - £5 entry in CASH on the do
 or.\n\nThe Unready - are a 4 piece originals rock band from south east Lon
 don. They have been described as playing a breakneck fusion of punk and ro
 ck with diehard harmonies.\n\nHoney\, I Punk'd The Hit's are a 3-piece ban
 d from Medway who play Straight Punk Covers together with Punk'd up hits.\
 n\nThe CAMRA award-winning bar &amp\; club premises will be open from 7 pm
  on the night. The bar is CARD payment only.\n\nIt's free entry to the clu
 b for OLC members &amp\; £1 to non-members payable at the bar.
CATEGORIES:Music
END:VEVENT
BEGIN:VTIMEZONE
TZID:Europe/London
X-LIC-LOCATION:Europe/London
BEGIN:DAYLIGHT
DTSTART:20250330T020000
TZOFFSETFROM:+0000
TZOFFSETTO:+0100
TZNAME:BST
END:DAYLIGHT
END:VTIMEZONE
END:VCALENDAR