BEGIN:VCALENDAR
VERSION:2.0
PRODID:-//wp-events-plugin.com//7.2.3.1//EN
TZID:Europe/London
X-WR-TIMEZONE:Europe/London
BEGIN:VEVENT
UID:791@orpingtonliberalclub.co.uk
DTSTART;TZID=Europe/London:20240305T193000
DTEND;TZID=Europe/London:20240305T220000
DTSTAMP:20240228T061739Z
URL:https://orpingtonliberalclub.co.uk/events/grand-ole-opry-singaround-ex
 tra/
SUMMARY:'Grand Ole Orpy' Singaround Extra
DESCRIPTION:By popular demand\, Paul Green &amp\; Patrick Lyseight will hos
 t an extra singaround at OLC on the 1st Tuesday evening in March.\n\nTake 
 turns to play a tune or sing a song with the option to invite others to jo
 in in. Open to all levels of ability &amp\; audience too.\n\nFolk\, Americ
 ana\, Pop-covers &amp\; other genres are all welcome.\n\nFor this session\
 , Poets are welcome\, in addition to Singers &amp\; Musicians.\n\nA good o
 pportunity for experienced performers to try out new material &amp\; begin
 ners to get used to being in front of an audience with a minimum of pressu
 re.\n\nThe cost is £3 per head on the door.\n\nEvery Tuesday is an acoust
 ic music night at Orpington Liberal Club\, with lots of floor spot opportu
 nities for performers.\n\nThe premises &amp\; OLC's CAMRA award-winning cl
 ub bar (CARD payments only) will be open from 6.15 pm.
CATEGORIES:Music
END:VEVENT
BEGIN:VTIMEZONE
TZID:Europe/London
X-LIC-LOCATION:Europe/London
BEGIN:STANDARD
DTSTART:20231029T010000
TZOFFSETFROM:+0100
TZOFFSETTO:+0000
TZNAME:GMT
END:STANDARD
END:VTIMEZONE
END:VCALENDAR