BEGIN:VCALENDAR
VERSION:2.0
PRODID:-//wp-events-plugin.com//7.2.3.1//EN
TZID:Europe/London
X-WR-TIMEZONE:Europe/London
BEGIN:VEVENT
UID:788@orpingtonliberalclub.co.uk
DTSTART;TZID=Europe/London:20240406T193000
DTEND;TZID=Europe/London:20240406T223000
DTSTAMP:20240321T080352Z
URL:https://orpingtonliberalclub.co.uk/events/graham-corbould-andy-small-j
 enny-newton/
SUMMARY:Graham Corbould\, Andy Small & Jenny Newton
DESCRIPTION:In what promises to be a fascinating &amp\; fun evening\, Andy 
 Small\, Jenny Newton\, and Graham Corbould will be on stage together. Thre
 e accomplished singer-songwriters and highly competent musicians will take
  turns performing their songs\, discussing their inspirations\, engaging i
 n friendly banter\, &amp\; at times joining in with one another.\n\nFrom 7
 .30 pm until 8.15 pm\, we're open to floorspots before the guests come on 
 to play the first of their two sets. Singers\, musicians\, and poets are a
 ll welcome. Self-penned material will be welcome but not compulsory.\n\nA 
 hat collection in CASH goes in its entirety to the guests. The suggested m
 inimum contribution is £6\, but please give a little bit more if you can 
 afford it.\n\nThe club premises and CAMRA award-winning bar will be open o
 n the day from 7.00 pm. It's CARD payments only: free entry to OLC members
 \, £1 to non-members
CATEGORIES:Music
END:VEVENT
BEGIN:VTIMEZONE
TZID:Europe/London
X-LIC-LOCATION:Europe/London
BEGIN:DAYLIGHT
DTSTART:20240331T020000
TZOFFSETFROM:+0000
TZOFFSETTO:+0100
TZNAME:BST
END:DAYLIGHT
END:VTIMEZONE
END:VCALENDAR