BEGIN:VCALENDAR
VERSION:2.0
PRODID:-//wp-events-plugin.com//7.2.3.1//EN
TZID:Europe/London
X-WR-TIMEZONE:Europe/London
BEGIN:VEVENT
UID:1299@orpingtonliberalclub.co.uk
DTSTART;TZID=Europe/London:20260131T150000
DTEND;TZID=Europe/London:20260131T170000
DTSTAMP:20260116T070600Z
URL:https://orpingtonliberalclub.co.uk/events/german-wine-and-cheese-tasti
 ng/
SUMMARY:German Wine and Cheese Tasting
DESCRIPTION:An opportunity to join John Kingscott for a tasting journey thr
 ough various German wines with cheese.\n\nWhile France\, Italy &amp\; Spai
 n dominate the supermarket shelves\, Germany produces some of Europe's fin
 est wines - let's try some!\n\nAll paired with a selection of cheeses.\n\n
 Your host &amp\; guide John Kingscott is a current Wine &amp\; Spirit Educ
 ation Trust Diploma Student.\n\nTickets @£18 each can be purchased from t
 he bar.\n\nJohn's Previous events at OLC have sold out - advanced booking 
 is recommended to avoid disappointment.\n\nThe OLC premises &amp\; bar (ca
 rd payments only) will be open on the day from 12.30 pm.\n\nEntry to OLC i
 s free for Club &amp\; CAMRA members and £1 to others\, payable at the ba
 r.\n\n&nbsp\;
CATEGORIES:Other
END:VEVENT
BEGIN:VTIMEZONE
TZID:Europe/London
X-LIC-LOCATION:Europe/London
BEGIN:STANDARD
DTSTART:20251026T010000
TZOFFSETFROM:+0100
TZOFFSETTO:+0000
TZNAME:GMT
END:STANDARD
END:VTIMEZONE
END:VCALENDAR