BEGIN:VCALENDAR
VERSION:2.0
PRODID:-//wp-events-plugin.com//7.2.3.1//EN
TZID:Europe/London
X-WR-TIMEZONE:Europe/London
BEGIN:VEVENT
UID:883@orpingtonliberalclub.co.uk
DTSTART;TZID=Europe/London:20241017T193000
DTEND;TZID=Europe/London:20241017T211500
DTSTAMP:20240923T102425Z
URL:https://orpingtonliberalclub.co.uk/events/geraldine-ann-ford/
SUMMARY:Talk by Geraldine Ann Ford
DESCRIPTION:At the beginning of the new millennium\, published local poet\,
  travel writer\, and novelist Geraldine Ann Ford spent 22 months living on
  La Gomera\, an unspoilt\, small\, craggy volcanic island in the Spanish C
 anaries situated off the regular tourist track.\n\nHer stay formed the bas
 is for a five-star rated Amazon book 'When the Spirit Moves You':\n\n'When
  I arrived in Valle Gran Rey there were two six hundred-foot cliffs on eit
 her side\, the sinuous road plunged\, and villages looked minute\, at the 
 bottom the Atlantic Ocean. I met some interesting characters and relate th
 eir stories which will make you smile or bring tears to your eyes. I have 
 tried to capture the magic of this stunning island with sights\, sounds an
 d smells\, enabling the reader to be transported to La Gomera from the com
 fort of their armchair'\n\nGel's illustrated talk\, based on the book\, st
 arts at 7.45 pm. it's free entry to the premises for OLC members &amp\; £
 1 to non-members who need to pay at the bar &amp\; sign in as guests.\n\nA
 dditionally there'll be a hat collection in CASH for the speaker with a su
 ggested minimum of £5 with signed copies of the book on sale.\n\nThe CAMR
 A award-winning bar will be open from 6.15 p.m. It accepts CARD payments o
 nly.\n\n&nbsp\;
CATEGORIES:Other
END:VEVENT
BEGIN:VTIMEZONE
TZID:Europe/London
X-LIC-LOCATION:Europe/London
BEGIN:DAYLIGHT
DTSTART:20240331T020000
TZOFFSETFROM:+0000
TZOFFSETTO:+0100
TZNAME:BST
END:DAYLIGHT
END:VTIMEZONE
END:VCALENDAR