BEGIN:VCALENDAR
VERSION:2.0
PRODID:-//wp-events-plugin.com//7.2.3.1//EN
TZID:Europe/London
X-WR-TIMEZONE:Europe/London
BEGIN:VEVENT
UID:1211@orpingtonliberalclub.co.uk
DTSTART;TZID=Europe/London:20251214T140000
DTEND;TZID=Europe/London:20251214T170000
DTSTAMP:20251122T074629Z
URL:https://orpingtonliberalclub.co.uk/events/fowlers-molly/
SUMMARY:Fowlers Molly
DESCRIPTION:As part of our seasonal celebrations\, Orpington Liberal Club i
 s delighted that Fowlers Molly has accepted our invitation to dance in the
  club hall on the afternoon of Sunday 14th December.\n\nIn case you're won
 dering\, Molly dancing is a form of English Morris dance\, traditionally p
 erformed by out-of-work ploughboys in midwinter.\n\nPlease come along &amp
 \; enjoy the spectacle\, During the afternoon we also invite contributions
  of songs\, tunes\, poetry\, rhymes &amp\; short stories. Seasonal materia
 l is welcome but not compulsory.\n\nWe'll also serve hot jacket potatoes w
 ith various toppings which will include vegetarian options.\n\nHat collect
 ion is in CASH for the dancers\, £5 min suggested. Please give more if yo
 u can afford it.\n\nThe club premises and its CAMRA award-winning bar (CAR
 D payments only) will be open on the day from 12.30 pm\, serving locally p
 roduced Kent Farmhouse Ciders and Cask Beers\, including Winter Ales.\n\nE
 ntry is free to Club/CAMRA members\, £1 for others payable at the bar.\n\
 n&nbsp\;
CATEGORIES:Music
END:VEVENT
BEGIN:VTIMEZONE
TZID:Europe/London
X-LIC-LOCATION:Europe/London
BEGIN:STANDARD
DTSTART:20251026T010000
TZOFFSETFROM:+0100
TZOFFSETTO:+0000
TZNAME:GMT
END:STANDARD
END:VTIMEZONE
END:VCALENDAR