BEGIN:VCALENDAR
VERSION:2.0
PRODID:-//wp-events-plugin.com//7.2.3.1//EN
TZID:Europe/London
X-WR-TIMEZONE:Europe/London
BEGIN:VEVENT
UID:1207@orpingtonliberalclub.co.uk
DTSTART;TZID=Europe/London:20251202T193000
DTEND;TZID=Europe/London:20251202T221500
DTSTAMP:20251106T090559Z
URL:https://orpingtonliberalclub.co.uk/events/four-gone-confusion-2/
SUMMARY:Four Gone Confusion
DESCRIPTION:\nFor December First Tuesday Guest Night we're delighted to wel
 come back FOUR GONE CONFUSION with JOHN &amp\; DiI CULLEN teaming up with 
 friends PETER &amp\; BRENDA &amp\; STORER.\n\nThe highly entertaining &amp
 \; classy East Sussex quartet play a variety of instruments\, singing &amp
 \; playing a selection of very eclectic material\, from traditional folk s
 ongs to classical guitar duets and more contemporary music.\n\nWe start th
 e evening with floorspots for around 45 minutes followed by the 1st of 2 s
 ets from the gusts with a mid-evening break taken at around 9.\n\nIf you'd
  like to perform\, please come early and flag up your intentions on arriva
 l to avoid disappointment. We're open to poets in addition to singers\, mu
 sicians\, and\, of course\, an audience.\n\nThe guests will be playing unp
 lugged\, but a small PA will be on hand with vocal mics &amp\; instrument 
 leads if any of the floorspots prefers to use it.\n\nA hat collection in C
 ASH goes to the guests\, with a suggested minimum contribution of £6 per 
 head. Please give more if you can afford it\, they are a first class act w
 ho are travelling a fair distance to play for us.\n\nThe CAMRA award-winni
 ng bar will be open from 6.15 pm. CARD payments only.
CATEGORIES:Music
END:VEVENT
BEGIN:VTIMEZONE
TZID:Europe/London
X-LIC-LOCATION:Europe/London
BEGIN:STANDARD
DTSTART:20251026T010000
TZOFFSETFROM:+0100
TZOFFSETTO:+0000
TZNAME:GMT
END:STANDARD
END:VTIMEZONE
END:VCALENDAR