BEGIN:VCALENDAR
VERSION:2.0
PRODID:-//wp-events-plugin.com//7.2.3.1//EN
TZID:Europe/London
X-WR-TIMEZONE:Europe/London
BEGIN:VEVENT
UID:1214@orpingtonliberalclub.co.uk
DTSTART;TZID=Europe/London:20251220T200000
DTEND;TZID=Europe/London:20251220T223000
DTSTAMP:20251125T095246Z
URL:https://orpingtonliberalclub.co.uk/events/flat-irony-christmas-special
 /
SUMMARY:Flat Irony Christmas Special
DESCRIPTION:\n\nPlease come along and see Flat Irony\; a popular local five
 -piece band playing classic covers from 70's to 00's. Bryan Adams to Fleet
 wood Mac\, the Cranberries to REM and some Christmas favourites.\n\nCollec
 tion in CASH or CARD for the band.\n\nPremises &amp\; CAMRA award-winning 
 bar (Card payments only) will be open from 7pm on the night.\n\nFree entry
  to Club/CAMRA members\, £1 non-members payable at the bar.
CATEGORIES:Music
END:VEVENT
BEGIN:VTIMEZONE
TZID:Europe/London
X-LIC-LOCATION:Europe/London
BEGIN:STANDARD
DTSTART:20251026T010000
TZOFFSETFROM:+0100
TZOFFSETTO:+0000
TZNAME:GMT
END:STANDARD
END:VTIMEZONE
END:VCALENDAR