BEGIN:VCALENDAR
VERSION:2.0
PRODID:-//wp-events-plugin.com//7.2.3.1//EN
TZID:Europe/London
X-WR-TIMEZONE:Europe/London
BEGIN:VEVENT
UID:1184@orpingtonliberalclub.co.uk
DTSTART;TZID=Europe/London:20250913T200000
DTEND;TZID=Europe/London:20250913T230000
DTSTAMP:20250809T054416Z
URL:https://orpingtonliberalclub.co.uk/events/flat-irony-5/
SUMMARY:Flat Irony & Michaela Pugh
DESCRIPTION:Please come along and see Flat Irony\, a popular local five-pie
 ce band playing classic covers from 70's to 00's. Bryan Adams to Fleetwood
  Mac\, the Cranberries to REM and more.\n\nWe also look forward to welcomi
 ng back Michaela Pugh\, a talented singer/songwriter\, who'll be playing f
 or 30 mins in the mid-session interval.\n\nHat collection in CASH for the 
 band.\n\nThe CAMRA award-winning bar &amp\; club premises will be open fro
 m 7pm on the night. The bar is CARD payment only.\n\nIt's free entry to th
 e club for OLC/CAMRA members &amp\; £1 to non-members payable at the bar.
CATEGORIES:Music
END:VEVENT
BEGIN:VTIMEZONE
TZID:Europe/London
X-LIC-LOCATION:Europe/London
BEGIN:DAYLIGHT
DTSTART:20250330T020000
TZOFFSETFROM:+0000
TZOFFSETTO:+0100
TZNAME:BST
END:DAYLIGHT
END:VTIMEZONE
END:VCALENDAR