BEGIN:VCALENDAR
VERSION:2.0
PRODID:-//wp-events-plugin.com//7.2.3.1//EN
TZID:Europe/London
X-WR-TIMEZONE:Europe/London
BEGIN:VEVENT
UID:801@orpingtonliberalclub.co.uk
DTSTART;TZID=Europe/London:20240401T120000
DTEND;TZID=Europe/London:20240401T220000
DTSTAMP:20240328T062005Z
URL:https://orpingtonliberalclub.co.uk/events/easter-beer-festival-3/
SUMMARY:Easter Beer Festival
DESCRIPTION:The final day of our Easter Real Ale and Cider Festival.\n\n30+
  stunning real ales and ciders\, craft keg\, cans and bottles.\n\nFree ent
 ry for Club/CAMRA members\, else £1.00/day entry on the door.\n\nCard pay
 ments only.\n\nMore details Here
CATEGORIES:Club,Real Ale
END:VEVENT
BEGIN:VTIMEZONE
TZID:Europe/London
X-LIC-LOCATION:Europe/London
BEGIN:DAYLIGHT
DTSTART:20240331T020000
TZOFFSETFROM:+0000
TZOFFSETTO:+0100
TZNAME:BST
END:DAYLIGHT
END:VTIMEZONE
END:VCALENDAR