BEGIN:VCALENDAR
VERSION:2.0
PRODID:-//wp-events-plugin.com//7.2.3.1//EN
TZID:Europe/London
X-WR-TIMEZONE:Europe/London
BEGIN:VEVENT
UID:1296@orpingtonliberalclub.co.uk
DTSTART;TZID=Europe/London:20260110T193000
DTEND;TZID=Europe/London:20260110T223000
DTSTAMP:20260106T070354Z
URL:https://orpingtonliberalclub.co.uk/events/duvet-dogs/
SUMMARY:Duvet Dogs
DESCRIPTION:\n\nDuvet Dogs are a lively East Sussex based Party Rock Band.\
 n\nThey play popular and classic rock covers in Pubs\, Clubs and at privat
 e parties.\n\nThere will be a CASH hat collection for the band.\n\nFor fur
 ther information see:\n\n 	facebook.com/duvetdogs\n 	bandbase.co.uk/artist
 es/duvet-dogs/\n\nThe club premises and CAMRA award-winning bar will be op
 en on the day from 7pm.\n\nEntry is free to OLC/CAMRA members and £1 for 
 non-members. The bar is card payments only\n\n&nbsp\;
CATEGORIES:Music
END:VEVENT
BEGIN:VTIMEZONE
TZID:Europe/London
X-LIC-LOCATION:Europe/London
BEGIN:STANDARD
DTSTART:20251026T010000
TZOFFSETFROM:+0100
TZOFFSETTO:+0000
TZNAME:GMT
END:STANDARD
END:VTIMEZONE
END:VCALENDAR