BEGIN:VCALENDAR
VERSION:2.0
PRODID:-//wp-events-plugin.com//7.2.3.1//EN
TZID:Europe/London
X-WR-TIMEZONE:Europe/London
BEGIN:VEVENT
UID:1195@orpingtonliberalclub.co.uk
DTSTART;TZID=Europe/London:20251004T193000
DTEND;TZID=Europe/London:20251004T220000
DTSTAMP:20251004T041713Z
URL:https://orpingtonliberalclub.co.uk/events/doug-field/
SUMMARY:Doug Field
DESCRIPTION:\nA laidback &amp\; friendly evening of live folk\, blues &amp\
 ; acoustic music with showcase sets from DOUG FIELD with Eric Lindsey &amp
 \; Sarah Weir\, EDACQUES (Ross Jacques &amp\; John Edward) \, JIMMY &amp\;
  ANGELA (James Greeves &amp\; Angela McCarron) plus friends to join them &
 amp\; 30 min of florspots time for singers\, musicians &amp\; poets to sta
 rt.\n\nThere's a CASH hat collection for the featured acts. The suggested 
 minimum contribution is £6\, but please give a little bit more if you can
  afford it.\n\nThe club premises &amp\; CAMRA award-winning bar will be op
 en on the day from 7.00 pm. CARD payments only.\n\nFree entry to OLC membe
 rs\, £1 to non-members\n\n&nbsp\;
CATEGORIES:Music
END:VEVENT
BEGIN:VTIMEZONE
TZID:Europe/London
X-LIC-LOCATION:Europe/London
BEGIN:DAYLIGHT
DTSTART:20250330T020000
TZOFFSETFROM:+0000
TZOFFSETTO:+0100
TZNAME:BST
END:DAYLIGHT
END:VTIMEZONE
END:VCALENDAR