BEGIN:VCALENDAR
VERSION:2.0
PRODID:-//wp-events-plugin.com//7.2.3.1//EN
TZID:Europe/London
X-WR-TIMEZONE:Europe/London
BEGIN:VEVENT
UID:1305@orpingtonliberalclub.co.uk
DTSTART;TZID=Europe/London:20260303T193000
DTEND;TZID=Europe/London:20260303T223000
DTSTAMP:20260226T085311Z
URL:https://orpingtonliberalclub.co.uk/events/doug-field-eric-lindsey/
SUMMARY:Dobbo & Garfield + Doug Field\, Eric Lindsey & Sarah Weir
DESCRIPTION:We kick off Mad March with an extra special guest night featuri
 ng sets from two highly entertaining &amp\; respected local duos.\n\nFine 
 finger-picking guitarist DOUG FIELD who gigs with American Roots\, Country
 \, Gospel &amp\; Blues band 'Calico Thieves' teams up with former professi
 onal guitarist &amp\; retired music shop proprietor ERIC LINDSEY. Doug &am
 p\; ERIC will also be joined by special Guest SARAH WEIR.\n\nDOBBO zany si
 nger-songwriter &amp\; front man with local cult rock band 'The Zorbs' tea
 ms up with partner in rhyme &amp\; an ace mandolin man GARFIELD.\n\nWe sta
 rt the evening with floorspots\, followed by sets of around 45 min each fr
 om the guests &amp\; there will be a mid-evening break taken at around 9.\
 n\nIf you'd like to perform\, please come early and flag up your intention
 s on arrival to avoid disappointment. We're open to poets in addition to s
 ingers\, musicians\, and\, of course\, an audience.\n\nThere'll be PA avai
 lable with mics &amp\; leads for plugin &amp\; play.\n\nA hat collection i
 n CASH goes to the guests\, with a suggested minimum contribution of £6 p
 er head. Please give more if you can afford it\, they are first class acts
 .\n\nThe CAMRA award-winning bar &amp\; club will be open from 6.15 pm. CA
 RD payments only. It's free entry to Club &amp\; CAMRA card carrying membe
 rs &amp\; £1 to others payable at the bar.\n\n&nbsp\;
CATEGORIES:Music
END:VEVENT
BEGIN:VTIMEZONE
TZID:Europe/London
X-LIC-LOCATION:Europe/London
BEGIN:STANDARD
DTSTART:20251026T010000
TZOFFSETFROM:+0100
TZOFFSETTO:+0000
TZNAME:GMT
END:STANDARD
END:VTIMEZONE
END:VCALENDAR