BEGIN:VCALENDAR
VERSION:2.0
PRODID:-//wp-events-plugin.com//7.2.3.1//EN
TZID:Europe/London
X-WR-TIMEZONE:Europe/London
BEGIN:VEVENT
UID:1190@orpingtonliberalclub.co.uk
DTSTART;TZID=Europe/London:20250919T193000
DTEND;TZID=Europe/London:20250919T223000
DTSTAMP:20250911T063542Z
URL:https://orpingtonliberalclub.co.uk/events/debbie-bond/
SUMMARY:Debbie Bond
DESCRIPTION:Orpington Liberal Club welcomes the return of the Debbie Bond B
 lues Band with top-notch blues all the way from the US Deep South.\n\nAmer
 ican Singer\, guitar player and songwriter Debbie Bond has been performing
  for decades in the Alabama backwoods &amp\; is now a regular on the South
 ern US and European Club and Festival circuit. The band will feature “Ra
 diator" Rick Asherson on keys\, harmonica and vocals\, plus renowned drumm
 er &amp\; percussionist Sam Kelly with his unique\, winning style.\n\nDebb
 ie is Alabama-born &amp\; bred. Growing up steeped in blues traditions fro
 m local juke joints to the famed sounds of Muscle Shoals\, Her impressive 
 CV includes years of cutting her teeth with traditional Alabama blues mast
 ers\, like Johnny Shines\, Eddie Kirkland\, Willie King\, Shar Baby\, Litt
 le Jimmy Reed and more.\n\nDebbie's collaboration with British-born partne
 r “Radiator” Rick has added a swampy New Orleans edge to her sound.\n\
 nAs a bonus\, there'll be a 20-minute mid-evening support spot from vetera
 n local bluesharp man Ross Jacques &amp\; accomplished guitarist Brian Mil
 ler.\n\nWe're also open to floorspots during the 1st 30 miniutes prior to 
 Debbie's 1st set\, which will start shortly after 8. It's 1st come 1st ser
 ved plug in &amp\; play. If you'd like to do a turn please arrive early &a
 mp\; keep it short\, sweet &amp\; bluesy.\n\nPayment is by hat collection 
 in CASH for the guests with a £8 minimum contribution suggested. Please c
 onsider giving a bit more if you can afford it.\n\nThe premises &amp\; OLC
 's CAMRA award-winning club bar (CARD payments only) will be open from 6.1
 5 pm. It's Free entry to OLC members with a £1 charge to others payable a
 t the bar.\n\n&nbsp\;\n\n&nbsp\;
CATEGORIES:Music
END:VEVENT
BEGIN:VTIMEZONE
TZID:Europe/London
X-LIC-LOCATION:Europe/London
BEGIN:DAYLIGHT
DTSTART:20250330T020000
TZOFFSETFROM:+0000
TZOFFSETTO:+0100
TZNAME:BST
END:DAYLIGHT
END:VTIMEZONE
END:VCALENDAR