BEGIN:VCALENDAR
VERSION:2.0
PRODID:-//wp-events-plugin.com//7.2.3.1//EN
TZID:Europe/London
X-WR-TIMEZONE:Europe/London
BEGIN:VEVENT
UID:1194@orpingtonliberalclub.co.uk
DTSTART;TZID=Europe/London:20251018T130000
DTEND;TZID=Europe/London:20251018T180000
DTSTAMP:20251014T141031Z
URL:https://orpingtonliberalclub.co.uk/events/deb-seymour/
SUMMARY:Deb Seymour
DESCRIPTION:\nWe're delighted Seattle-based singer-songwriter Deb Seymour\,
  has accepted our invitation to visit OLC while taking a UK Holiday &amp\;
  will play a charity set in aid of Bromley Borough Foodbank.\n\nWe bonded 
 with Deb on-line during the lockdowns. Her music is a delightful mix of hu
 mour &amp\; heart with whimsical\, &amp\; intelligent lyrics\, masterful g
 uitar skills\, &amp\; a theatrical stage presence.\n\nThe afternoon specia
 l will include food &amp\; refreshments + a succession of pre-booked spots
  from singers\, musicians &amp\; poets\n\nHere's the schedule\n\n 	1.15-2.
 00 floorspots\n 	2.00-2.20 Pauline Llewellyn\n 	2.20-2.40 Carol Ward\n 	2.
 40-3.00 Paul Steele\n 	3.00-3.20 Jenny Newton\n 	3.20-3.40 Mike &amp\; Les
 ley Dyer (On the Patio/In the Garden)\n 	3.40-3.50 Afternoon Tea Break ...
 with sarnies &amp\; cakes served\n 	3.50-4.10 Edacques (John Edwards &amp\
 ; Ross Jacques)\n 	4.10-4.30 Sunrise (Jenny Webb\, Sandy Roberts &amp\; Br
 in Parsons)\n 	4\,30-4.50 The Gillies\n 	4.50-5.10 Graham Corbould\n 	5.10
 - 6.00 Deb Seymour\n\nEmcee Gel Ford Sound Paul Green\n1st Reserve Mark Ne
 wlove\n\nIt's free entry to OLC &amp\; CAMRA members\, with a £1 charge t
 o non-members who attend as guests.\n\nThe OLC premises &amp\; CAMRA award
 -winning bar will be open from 12.30pm . It's a CARD payment only.\n\nTher
 e'll be a Hat Collection in CASH with the entire proceeds going to the loc
 al Foodbank. The minimum suggested contribution is £5 per head\, but plea
 se give more if you can afford it.
CATEGORIES:Music
END:VEVENT
BEGIN:VTIMEZONE
TZID:Europe/London
X-LIC-LOCATION:Europe/London
BEGIN:DAYLIGHT
DTSTART:20250330T020000
TZOFFSETFROM:+0000
TZOFFSETTO:+0100
TZNAME:BST
END:DAYLIGHT
END:VTIMEZONE
END:VCALENDAR