BEGIN:VCALENDAR
VERSION:2.0
PRODID:-//wp-events-plugin.com//7.2.3.1//EN
TZID:Europe/London
X-WR-TIMEZONE:Europe/London
BEGIN:VEVENT
UID:1202@orpingtonliberalclub.co.uk
DTSTART;TZID=Europe/London:20251121T193000
DTEND;TZID=Europe/London:20251121T223000
DTSTAMP:20251116T122433Z
URL:https://orpingtonliberalclub.co.uk/events/dave-ellis-boo-howard-2/
SUMMARY:Dave Ellis and Boo Howard
DESCRIPTION:Dave Ellis and Boo Howard exude class with Boo's wonderful voic
 e and Dave's stunning songwriting and guitar playing\; They are always cla
 ssy\, imaginative and engaging\, enjoying the sort of close musical unders
 tanding which can only come from performing together for over 30 years but
  their performances at the same time stay fresh and exciting.\n\nIn suppor
 t\, Sheppey-based guitarist and singer Paul Steele plays a short mid-eveni
 ng showcase set. Paul is a fine interpreter of songs with his own distinct
 ive style. His gravelly\, laconic vocals are perfectly blended with open g
 uitar tuning.\n\nWe start the show at 19.30 hrs with floorspots strictly l
 imited to the 1st 45 minutes\, with singers\, musicians\, and poets all we
 lcome to do a turn before bringing on Dave and Boo for the 1st of 2 x 40-m
 inute sets.\n\nThere will be a hat collection for the guests in cash\, wit
 h a suggested minimum contribution of £7 per head\, but please give more 
 if you can afford it.\n\nThe club premises and CAMRA award-winning bar ope
 n at 17.30 and is card payments only.\n\nIt's free entry to OLC Members wi
 th a £1 charge to non-members payable at the bar.\n\nLink to Dave and Boo
 's website daveandboo.com
CATEGORIES:Music
END:VEVENT
BEGIN:VTIMEZONE
TZID:Europe/London
X-LIC-LOCATION:Europe/London
BEGIN:STANDARD
DTSTART:20251026T010000
TZOFFSETFROM:+0100
TZOFFSETTO:+0000
TZNAME:GMT
END:STANDARD
END:VTIMEZONE
END:VCALENDAR