BEGIN:VCALENDAR
VERSION:2.0
PRODID:-//wp-events-plugin.com//7.2.3.1//EN
TZID:Europe/London
X-WR-TIMEZONE:Europe/London
BEGIN:VEVENT
UID:1192@orpingtonliberalclub.co.uk
DTSTART;TZID=Europe/London:20251007T193000
DTEND;TZID=Europe/London:20251007T220000
DTSTAMP:20250910T082227Z
URL:https://orpingtonliberalclub.co.uk/events/cinnabar-duo/
SUMMARY:Cinnabar Duo
DESCRIPTION:\nCINNABAR DUO are singer RHIANNON CAIN &amp\; COLIN BRUNTON on
  guitar &amp\; vocals.\n\nSince first teaming up at the British Oak Pub in
  Blackheath\, the pair have been building an extensive repertoire of songs
  along with an appreciative fan base. Expect an eclectic mix of folk &amp\
 ; quirky blues\, with 19th-century pop songs thrown in for good measure.\n
 \nWe start the evening with floorspots &amp\; The Cinnabar will come on to
  play the 1st of two sets at 8.20 pm or shortly after.\n\nIf you wish to p
 erform\, please come early and flag up your intentions on arrival to avoid
  disappointment. We're open to poets and spoken work in addition to singer
 s\, musicians\, and\, of course\, an audience.\n\nThere'll be PA available
  with mics &amp\; leads for plugin &amp\; play.\n\nThe hat collection is i
 n CASH for the guests\, with a suggested contribution of £6 per head mini
 mum. Please give more if you can afford it. It all goes to the guests\, wh
 o are a class act.\n\nThe CAMRA award-winning bar will be open from 6.15 p
 m. CARD payments only.
CATEGORIES:Music
END:VEVENT
BEGIN:VTIMEZONE
TZID:Europe/London
X-LIC-LOCATION:Europe/London
BEGIN:DAYLIGHT
DTSTART:20250330T020000
TZOFFSETFROM:+0000
TZOFFSETTO:+0100
TZNAME:BST
END:DAYLIGHT
END:VTIMEZONE
END:VCALENDAR