BEGIN:VCALENDAR
VERSION:2.0
PRODID:-//wp-events-plugin.com//7.2.3.1//EN
TZID:Europe/London
X-WR-TIMEZONE:Europe/London
BEGIN:VEVENT
UID:1175@orpingtonliberalclub.co.uk
DTSTART;TZID=Europe/London:20250815T120000
DTEND;TZID=Europe/London:20250815T230000
DTSTAMP:20250722T061537Z
URL:https://orpingtonliberalclub.co.uk/events/cider-festival/
SUMMARY:Cider Festival
DESCRIPTION:Our Summer Cider Festival will be held on Friday 15th August\, 
 Saturday 16th August and Sunday 17th August 2025.\n\nWe will have 20+ stil
 l ciders and perry available and of course our usual selection of draught 
 real ales and other drinks.\n\n 	Friday 15th August 12pm – 11pm\n 	Satur
 day 16th August 12pm – 11pm\n 	Sunday 17th August 12pm – 5pm\n\nFree e
 ntry for Club/CAMRA members\; everyone else must buy an entry ticket from 
 the bar. These cost £1.00 and are valid for the whole weekend.\n\nMore de
 tails Here
CATEGORIES:Cider
END:VEVENT
BEGIN:VTIMEZONE
TZID:Europe/London
X-LIC-LOCATION:Europe/London
BEGIN:DAYLIGHT
DTSTART:20250330T020000
TZOFFSETFROM:+0000
TZOFFSETTO:+0100
TZNAME:BST
END:DAYLIGHT
END:VTIMEZONE
END:VCALENDAR