BEGIN:VCALENDAR
VERSION:2.0
PRODID:-//wp-events-plugin.com//7.2.3.1//EN
TZID:Europe/London
X-WR-TIMEZONE:Europe/London
BEGIN:VEVENT
UID:1177@orpingtonliberalclub.co.uk
DTSTART;TZID=Europe/London:20250817T120000
DTEND;TZID=Europe/London:20250817T170000
DTSTAMP:20250722T061522Z
URL:https://orpingtonliberalclub.co.uk/events/cider-festival-final-day/
SUMMARY:Cider Festival Final Day
DESCRIPTION:The final day of our Summer Cider Festival .\n\nWe will have 20
 + still ciders and perry available and of course our usual selection of dr
 aught real ales and other drinks.\n\nFree entry for Club/CAMRA members\; e
 veryone else must buy an entry ticket from the bar. These cost £1.00.\n\n
 More details Here
CATEGORIES:Cider
END:VEVENT
BEGIN:VTIMEZONE
TZID:Europe/London
X-LIC-LOCATION:Europe/London
BEGIN:DAYLIGHT
DTSTART:20250330T020000
TZOFFSETFROM:+0000
TZOFFSETTO:+0100
TZNAME:BST
END:DAYLIGHT
END:VTIMEZONE
END:VCALENDAR