BEGIN:VCALENDAR
VERSION:2.0
PRODID:-//wp-events-plugin.com//7.2.3.1//EN
TZID:Europe/London
X-WR-TIMEZONE:Europe/London
BEGIN:VEVENT
UID:1291@orpingtonliberalclub.co.uk
DTSTART;TZID=Europe/London:20260123T193000
DTEND;TZID=Europe/London:20260123T223000
DTSTAMP:20251225T074011Z
URL:https://orpingtonliberalclub.co.uk/events/capella-ben-claire-forde/
SUMMARY:Capella + Ben & Claire Forde
DESCRIPTION:\n\nA welcome return for Capella - Tony &amp\; Petty\, whose am
 azing two part a cappella harmony singing has been enchanting audiences at
  clubs and festivals since 1996 performing both in their own right &amp\; 
 more recently alongside their friends Sally &amp\; Brian Cater as Shake Me
  Up Sally.\n\nTheir songs are a mixture of traditional and contemporary\, 
 delivered in a relaxed and witty style with audience participation always 
 encouraged.\n\nIn addition to 2 sets from Capella the evening will feature
  a mid-evening 20 minute showcase set from Ben &amp\; Claire Forde with Cl
 aire's wonderful singing perfectly complimented by Ben's guitar.\n\nFrom 7
 .30 pm until 8.10 pm\, we're open to lively floor spots. We welcome singer
 s\, musicians &amp\; poets. Please come early if you'd like to do a turn.\
 n\nThe 1st guests set is due to start around 8.15 with break taken at arou
 nd 9. Payment for the guests by hat collection in CASH. The suggested mini
 mum contribution is £7 but please give more if you can afford it.\n\nThe 
 club premises and CAMRA award-winning bar will be open on the day from 5.3
 0 pm.\n\nEntry is free to OLC/CAMRA members and £1 for non-members. The b
 ar is card payments only\n\n&nbsp\;
CATEGORIES:Music
END:VEVENT
BEGIN:VTIMEZONE
TZID:Europe/London
X-LIC-LOCATION:Europe/London
BEGIN:STANDARD
DTSTART:20251026T010000
TZOFFSETFROM:+0100
TZOFFSETTO:+0000
TZNAME:GMT
END:STANDARD
END:VTIMEZONE
END:VCALENDAR