BEGIN:VCALENDAR
VERSION:2.0
PRODID:-//wp-events-plugin.com//7.2.3.1//EN
TZID:Europe/London
X-WR-TIMEZONE:Europe/London
BEGIN:VEVENT
UID:1290@orpingtonliberalclub.co.uk
DTSTART;TZID=Europe/London:20260124T194500
DTEND;TZID=Europe/London:20260124T223000
DTSTAMP:20260109T065953Z
URL:https://orpingtonliberalclub.co.uk/events/burns-night-supper-ticketed-
 event/
SUMMARY:Burns Night Supper - SOLD OUT
DESCRIPTION:We're celebrating Burns Night a day early this year due to a cl
 ash with a regular Sunday Night church booking.\n\nCome and join us for a 
 Burns Night Supper\, which will be served at 8 or a little bit later. Proc
 eedings will include the piping in of the Haggis.\n\n 	Scottish Soup\n 	Ha
 ggis\, Neeps &amp\; Tatties\n 	Wee Dram\n 	Scottish Music\n\nIn Burns Nigh
 t tradition\, we welcome after-dinner songs\, tunes\, poems\, and tales wi
 th a Scottish flavour. But don't panic about getting up and doing a party 
 piece\; it's not compulsory.\n\nThis event has now sold out.\n\nPlease let
  us know in advance if you\, or anyone in your party\, would like a vegeta
 rian option\, needs allergy advice or has any other special dietary requir
 ements.\n\nThe CAMRA award-winning bar (Card payments only) &amp\; club pr
 emises will be open on the night from 7pm with a selection of single malt 
 whiskies\, real ales\, and ciders.
CATEGORIES:Club
END:VEVENT
BEGIN:VTIMEZONE
TZID:Europe/London
X-LIC-LOCATION:Europe/London
BEGIN:STANDARD
DTSTART:20251026T010000
TZOFFSETFROM:+0100
TZOFFSETTO:+0000
TZNAME:GMT
END:STANDARD
END:VTIMEZONE
END:VCALENDAR