BEGIN:VCALENDAR
VERSION:2.0
PRODID:-//wp-events-plugin.com//7.2.3.1//EN
TZID:Europe/London
X-WR-TIMEZONE:Europe/London
BEGIN:VEVENT
UID:789@orpingtonliberalclub.co.uk
DTSTART;TZID=Europe/London:20240419T193000
DTEND;TZID=Europe/London:20240419T223000
DTSTAMP:20240325T064040Z
URL:https://orpingtonliberalclub.co.uk/events/broomdasher-fox/
SUMMARY:Broomdasher
DESCRIPTION:Broomdasher is a London-based acapella group that first came to
 gether in 2016. The quartet comprises of Richard Cryan\, Deena Marcus-Jeda
 mzik\, Margaret Moore &amp\; Jo Swinhoe\, accomplished musicians who have 
 spent many years performing both solo and in other groups.\n\nThey share a
  love of traditional songs from across the British Isles\, entertaining au
 diences with their arrangements of both the much-loved and less well-known
  songs &amp\; encouraging audiences to join in.\n\nBroomdasher regularly s
 ing at folk clubs &amp\; festivals &amp\; have also hosted their own radio
  specials. All their recordings are in the British Library's National Soun
 d Archive Collection as "an outstanding example of grassroots folk music t
 oday."\n\nFrom 7.30 pm until 8.15 pm\, we're open to lively floorspots bef
 ore Broomdasher comes on for the first of their two sets. Singers\, musici
 ans\, and poets are welcome. Come early if you'd like to do a turn. Time i
 s limited\, and we'll try to fit in as many as possible. Please be ready w
 hen you're called\, and keep it short and sweet—this part of the evening
  won't be allowed to overrun!!\n\nA hat collection in CASH goes in its ent
 irety to the guests. The suggested minimum contribution is £6\, but pleas
 e give a little more if you can afford it.\n\nThe club premises &amp\; CAM
 RA award-winning bar will be open on the day from 5.30 pm. It's CARD payme
 nts only free entry to OLC members &amp\; £1 to non-members.\n\n&nbsp\;
CATEGORIES:Music
END:VEVENT
BEGIN:VTIMEZONE
TZID:Europe/London
X-LIC-LOCATION:Europe/London
BEGIN:DAYLIGHT
DTSTART:20240331T020000
TZOFFSETFROM:+0000
TZOFFSETTO:+0100
TZNAME:BST
END:DAYLIGHT
END:VTIMEZONE
END:VCALENDAR