BEGIN:VCALENDAR
VERSION:2.0
PRODID:-//wp-events-plugin.com//7.2.3.1//EN
TZID:Europe/London
X-WR-TIMEZONE:Europe/London
BEGIN:VEVENT
UID:1317@orpingtonliberalclub.co.uk
DTSTART;TZID=Europe/London:20260410T193000
DTEND;TZID=Europe/London:20260410T223000
DTSTAMP:20260307T164034Z
URL:https://orpingtonliberalclub.co.uk/events/broomdasher-dave-suich-steve
 -ball/
SUMMARY:Broomdasher + Dave Suich & Steve Ball
DESCRIPTION:Our guests Broomdasher are a London-based acapella singing folk
  group. The quartet comprises of Richard Cryan\, Deena Marcus-Jedamzik\, M
 argaret Moore &amp\; Jo Swinhoe\, accomplished musicians who have spent ma
 ny years performing both solo and in other groups.\n\nThey share a love of
  traditional songs from across the British Isles\, entertaining audiences 
 with their arrangements of both much-loved and less well-known songs &amp\
 ; encouraging audiences to join in.\n\nAs an extra-special treat the bill 
 includes a mid-evening showcase from Dave Suich (Of Ukulele Orchestra of G
 reat Britain fame) &amp\; Steve Ball (Skinny Malinky /The Stevadores) who 
 are currently working on a new musical project.\n\nFrom 7.30 pm until 8.15
  pm\, we're open to floorspots before Broomdasher come on for the first of
  their two sets. Singers\, musicians\, and poets are all welcome. Time is 
 limited\, but we'll try to squeeze in as many performers as possible. So p
 lease be ready when called &amp\; keep short &amp\; sweet.\n\nA hat collec
 tion in CASH goes to the guests\, with a suggested minimum contribution of
  £7 per head. Please give more if you can afford it\, they are first clas
 s acts\n\nThe CAMRA award-winning bar &amp\; club will be open from 5.30 p
 m. CARD payments only.\n\nIt's free entry to Club &amp\; CAMRA card carryi
 ng members &amp\; £1 to others payable at the bar.\n\n&nbsp\;
CATEGORIES:Music
END:VEVENT
BEGIN:VTIMEZONE
TZID:Europe/London
X-LIC-LOCATION:Europe/London
BEGIN:DAYLIGHT
DTSTART:20260329T020000
TZOFFSETFROM:+0000
TZOFFSETTO:+0100
TZNAME:BST
END:DAYLIGHT
END:VTIMEZONE
END:VCALENDAR