BEGIN:VCALENDAR
VERSION:2.0
PRODID:-//wp-events-plugin.com//7.2.3.1//EN
TZID:Europe/London
X-WR-TIMEZONE:Europe/London
BEGIN:VEVENT
UID:1339@orpingtonliberalclub.co.uk
DTSTART;TZID=Europe/London:20260522T193000
DTEND;TZID=Europe/London:20260522T223000
DTSTAMP:20260422T084748Z
URL:https://orpingtonliberalclub.co.uk/events/border-crossing-kaz-langridg
 e/
SUMMARY:Border Crossing + Kaz Langridge
DESCRIPTION:Welcome return of the ever popular BORDER CROSSING a duo combin
 ing the talents of Dean Tanio &amp\; John Matthews.\n\nJohn Matthews is an
  ex-pat Scot &amp\; long-time Kent resident. A fine unaccompanied singer i
 n the folk tradition.\nDean Tanio adds his voice &amp\; accomplished guita
 r playing.\n\nThe sum total is a succession of delightful arrangements of 
 traditional &amp\; contemporary folk songs with plenty of opportunities to
  join in with the choruses.\n\nIn support will be a 20 min mid-evening sho
 wcase from Eynsford based singer Karen Langridge. Kaz has a beautiful voic
 e &amp\; performs an eclectic mix of traditional &amp\; contemporary folks
 ongs playing both flute &amp\; autoharp.\n\nFrom 7.30 pm until 8.15 pm\, w
 e're open to floorspots before Border Crossing come on for the first of th
 eir two sets. Singers\, musicians\, &amp\; poets are welcome. Time is limi
 ted\, but we'll try to squeeze in as many as possible. Please be ready whe
 n called &amp\; keep it short &amp\; sweet.\n\nA hat collection in CASH go
 es in its entirety to the guests. The suggested minimum contribution is £
 7\, but please give a little more if you can afford it.\n\nThe club premis
 es &amp\; CAMRA award-winning bar will be open on the day from 5.30 pm. - 
 card payments only.\n\nFree entry to OLC/CAMRA members &amp\; £1 to non-m
 embers payable at the bar.\n\n&nbsp\;
CATEGORIES:Music
END:VEVENT
BEGIN:VTIMEZONE
TZID:Europe/London
X-LIC-LOCATION:Europe/London
BEGIN:DAYLIGHT
DTSTART:20260329T020000
TZOFFSETFROM:+0000
TZOFFSETTO:+0100
TZNAME:BST
END:DAYLIGHT
END:VTIMEZONE
END:VCALENDAR