BEGIN:VCALENDAR
VERSION:2.0
PRODID:-//wp-events-plugin.com//7.2.3.1//EN
TZID:Europe/London
X-WR-TIMEZONE:Europe/London
BEGIN:VEVENT
UID:1167@orpingtonliberalclub.co.uk
DTSTART;TZID=Europe/London:20250729T190000
DTEND;TZID=Europe/London:20250729T210000
DTSTAMP:20250622T063857Z
URL:https://orpingtonliberalclub.co.uk/events/border-crossing-2/
SUMMARY:Border Crossing
DESCRIPTION:\n\nTuesday Evening Summer Garden Gigs featuring a set from the
  superb BORDER CROSSING\, a duo combining the talents of Dean Tainio &amp\
 ; John Matthews. It's not to be missed!!\n\nJohn Matthews is an ex-pat Sco
 t &amp\; long-time Kent resident. A fine unaccompanied singer in the folk 
 tradition.\n\nDean Tainio\, another established Kent folk musician with ro
 ots just south of the Scottish border\, adds his voice &amp\; accomplished
  guitar playing.\n\nThe sum total is a succession of delightful arrangemen
 ts of traditional &amp\; contemporary folk songs with plenty of opportunit
 ies to join in with the choruses.\n\nWe start with floorspots at 7 p.m. Si
 ngers\, musicians\, and poets are welcome. If you'd like to do a turn\, pl
 ease come early and flag up your intentions on arrival to avoid disappoint
 ment.\n\nThere'll be a small PA with mics &amp\; leads for plug-in &amp\; 
 play.\n\nThe hat collection is in CASH for the guests\, with a suggested c
 ontribution of £6 per head minimum. Please give more if you can afford it
 . It all goes to the guests\, who are a class act.\n\nThe CAMRA award-winn
 ing bar will be open from 18.15 on Its CARD payments only.\n\nIt's Free en
 try to the premises for OLC Club members\, with Non-Members paying £1.\n\
 nIn the Garden\, we must finish by 9 to comply with the club's licensing c
 onditions. If it's necessary to move the event into the hall due to poor w
 eather\, we will start a little later &amp\; may continue until around 10.
CATEGORIES:Music
END:VEVENT
BEGIN:VTIMEZONE
TZID:Europe/London
X-LIC-LOCATION:Europe/London
BEGIN:DAYLIGHT
DTSTART:20250330T020000
TZOFFSETFROM:+0000
TZOFFSETTO:+0100
TZNAME:BST
END:DAYLIGHT
END:VTIMEZONE
END:VCALENDAR