BEGIN:VCALENDAR
VERSION:2.0
PRODID:-//wp-events-plugin.com//7.2.3.1//EN
TZID:Europe/London
X-WR-TIMEZONE:Europe/London
BEGIN:VEVENT
UID:1181@orpingtonliberalclub.co.uk
DTSTART;TZID=Europe/London:20250920T150000
DTEND;TZID=Europe/London:20250920T170000
DTSTAMP:20250802T124329Z
URL:https://orpingtonliberalclub.co.uk/events/bordeaux-wine-and-cheese-tas
 ting/
SUMMARY:Bordeaux Wine and Cheese Tasting
DESCRIPTION:\nAnother opportunity to join John Kingscott.\n\nFor this sessi
 on\, he will take us on a trip around the Bordeaux region\, its history an
 d the wines that have made it famous.\n\nAll paired with some fabulous Bri
 tish cheese.\n\nJohn is currently a Wine &amp\; Spirit Educational Trust S
 tudent.\n\nTickets are £15 each in CASH &amp\; need to be purchased in ad
 vance from the OLC bar during normal opening hours.\n\nThe OLC premises &a
 mp\; bar (CARD payments only) will be open on the day from 12.30 pm.\n\nEn
 try to OLC is free for current Club &amp\; CAMRA members and £1 to others
 \, payable at the bar.
CATEGORIES:Other
END:VEVENT
BEGIN:VTIMEZONE
TZID:Europe/London
X-LIC-LOCATION:Europe/London
BEGIN:DAYLIGHT
DTSTART:20250330T020000
TZOFFSETFROM:+0000
TZOFFSETTO:+0100
TZNAME:BST
END:DAYLIGHT
END:VTIMEZONE
END:VCALENDAR