BEGIN:VCALENDAR
VERSION:2.0
PRODID:-//wp-events-plugin.com//7.2.3.1//EN
TZID:Europe/London
X-WR-TIMEZONE:Europe/London
BEGIN:VEVENT
UID:890@orpingtonliberalclub.co.uk
DTSTART;TZID=Europe/London:20251009T180000
DTEND;TZID=Europe/London:20251009T230000
DTSTAMP:20251009T101330Z
URL:https://orpingtonliberalclub.co.uk/events/beer-festival-preview-3/
SUMMARY:Beer Festival Preview
DESCRIPTION:Our Real Ale and Cider Festival will be held on Friday 9th Octo
 ber\, Saturday 10th October and Sunday 11th October 2025.\n\nNearly 40 stu
 nning real ales\, ciders &amp\; perry\, plus craft keg\, cans and bottles.
 \n\nPreview night - free entry to Club/CAMRA members and their guests ONLY
 .\n\nCard payments only.\n\nMore details Here
CATEGORIES:Club,Real Ale
END:VEVENT
BEGIN:VTIMEZONE
TZID:Europe/London
X-LIC-LOCATION:Europe/London
BEGIN:DAYLIGHT
DTSTART:20250330T020000
TZOFFSETFROM:+0000
TZOFFSETTO:+0100
TZNAME:BST
END:DAYLIGHT
END:VTIMEZONE
END:VCALENDAR