BEGIN:VCALENDAR
VERSION:2.0
PRODID:-//wp-events-plugin.com//7.2.3.1//EN
TZID:Europe/London
X-WR-TIMEZONE:Europe/London
BEGIN:VEVENT
UID:888@orpingtonliberalclub.co.uk
DTSTART;TZID=Europe/London:20250421T120000
DTEND;TZID=Europe/London:20250421T220000
DTSTAMP:20250304T084327Z
URL:https://orpingtonliberalclub.co.uk/events/beer-festival-5/
SUMMARY:Beer Festival
DESCRIPTION:Our Real Ale and Cider Festival will be held on Good Friday 18t
 h\, Saturday 19th  Sunday 20th and Easter Monday 21st April 2025.\n\nOver
  30 stunning real ales and ciders\, craft keg\, cans and bottles.\n\nFree 
 entry for Club/CAMRA members\, else £1.00/day entry on the door.\n\nCard 
 payments only.\n\nMore details Here
CATEGORIES:Club,Real Ale
END:VEVENT
BEGIN:VTIMEZONE
TZID:Europe/London
X-LIC-LOCATION:Europe/London
BEGIN:DAYLIGHT
DTSTART:20250330T020000
TZOFFSETFROM:+0000
TZOFFSETTO:+0100
TZNAME:BST
END:DAYLIGHT
END:VTIMEZONE
END:VCALENDAR