BEGIN:VCALENDAR
VERSION:2.0
PRODID:-//wp-events-plugin.com//7.2.3.1//EN
TZID:Europe/London
X-WR-TIMEZONE:Europe/London
BEGIN:VEVENT
UID:1330@orpingtonliberalclub.co.uk
DTSTART;TZID=Europe/London:20261009T120000
DTEND;TZID=Europe/London:20261009T230000
DTSTAMP:20260401T105840Z
URL:https://orpingtonliberalclub.co.uk/events/beer-festival-14/
SUMMARY:Beer Festival
DESCRIPTION:Our Real Ale and Cider Festival will be held on Friday 9th Octo
 ber\, Saturday 10th October and Sunday 11th October 2026.\n\nMany stunning
  real ales\, ciders &amp\; perry\, plus craft keg\, cans and bottles.\n\nF
 ree entry for Club/CAMRA members\, else £1.00/day entry on the door.\n\nC
 ard payments only.\n\nMore details Here
CATEGORIES:Club,Real Ale
END:VEVENT
BEGIN:VTIMEZONE
TZID:Europe/London
X-LIC-LOCATION:Europe/London
BEGIN:DAYLIGHT
DTSTART:20260329T020000
TZOFFSETFROM:+0000
TZOFFSETTO:+0100
TZNAME:BST
END:DAYLIGHT
END:VTIMEZONE
END:VCALENDAR