BEGIN:VCALENDAR
VERSION:2.0
PRODID:-//wp-events-plugin.com//7.2.3.1//EN
TZID:Europe/London
X-WR-TIMEZONE:Europe/London
BEGIN:VEVENT
UID:1328@orpingtonliberalclub.co.uk
DTSTART;TZID=Europe/London:20260402T180000
DTEND;TZID=Europe/London:20260402T230000
DTSTAMP:20260401T064535Z
URL:https://orpingtonliberalclub.co.uk/events/beer-festival-13/
SUMMARY:Beer Festival Preview
DESCRIPTION:Our Easter Real Ale and Cider Festival will be held from Friday
  3rd April to Monday 6th April 2026.\n\n30+ stunning real ales\, ciders &a
 mp\; perry\, plus craft keg\, cans and bottles.\nSnacks &amp\; rolls also 
 available.\n\nPreview night – free entry to Club/CAMRA members and their
  guests ONLY.\n\nCard payments only.\n\nMore details Here
CATEGORIES:Club,Real Ale
END:VEVENT
BEGIN:VTIMEZONE
TZID:Europe/London
X-LIC-LOCATION:Europe/London
BEGIN:DAYLIGHT
DTSTART:20260329T020000
TZOFFSETFROM:+0000
TZOFFSETTO:+0100
TZNAME:BST
END:DAYLIGHT
END:VTIMEZONE
END:VCALENDAR