BEGIN:VCALENDAR
VERSION:2.0
PRODID:-//wp-events-plugin.com//7.2.3.1//EN
TZID:Europe/London
X-WR-TIMEZONE:Europe/London
BEGIN:VEVENT
UID:1327@orpingtonliberalclub.co.uk
DTSTART;TZID=Europe/London:20260406T140000
DTEND;TZID=Europe/London:20260406T220000
DTSTAMP:20260401T110007Z
URL:https://orpingtonliberalclub.co.uk/events/beer-festival-12/
SUMMARY:Beer Festival - Final Day
DESCRIPTION:This is the final day of our Easter Real Ale and Cider Festival
 .\n\n30+ stunning real ales\, ciders &amp\; perry\, plus craft keg\, cans 
 and bottles.\nSnacks &amp\; rolls also available.\n\nFree entry for Club/C
 AMRA members\, else £1.00/day entry on the door.\n\nCard payments only.\n
 \nMore details Here
CATEGORIES:Club,Real Ale
END:VEVENT
BEGIN:VTIMEZONE
TZID:Europe/London
X-LIC-LOCATION:Europe/London
BEGIN:DAYLIGHT
DTSTART:20260329T020000
TZOFFSETFROM:+0000
TZOFFSETTO:+0100
TZNAME:BST
END:DAYLIGHT
END:VTIMEZONE
END:VCALENDAR