BEGIN:VCALENDAR
VERSION:2.0
PRODID:-//wp-events-plugin.com//7.2.3.1//EN
TZID:Europe/London
X-WR-TIMEZONE:Europe/London
BEGIN:VEVENT
UID:1174@orpingtonliberalclub.co.uk
DTSTART;TZID=Europe/London:20250830T133000
DTEND;TZID=Europe/London:20250830T180000
DTSTAMP:20250825T055213Z
URL:https://orpingtonliberalclub.co.uk/events/august-garden-party/
SUMMARY:Garden Party with Holly's Buddies
DESCRIPTION:This year's Late Summer Afternoon Garden Party at Orpington Lib
 eral Club culminates in a one-hour set from Holly's Buddies Trio with lots
  of great songs from the late 50's &amp\; early 60's featuring Tony Dobson
  (guitar /vocals)\, Manny Leeman (guitar / vocal harmonies) &amp\; Peter S
 tanden (bass/vocal harmonies).\n\nWe start at 1.30 with 45 minutes of floo
 rspots\, and then during the afternoon\, there will be a succession of pre
 -booked slots from outstanding performers.\n\nKeeping our fingers-crossed 
 for good weather. But if it's poor\, the event will still go ahead but mov
 e into the club's hall.\n\nIt's free for OLC and CAMRA members\, with a £
 1 charge to non-members who attend as guests.\n\nThe OLC premises &amp\; C
 AMRA award-winning bar will be open from 12.30pm. It's a CARD payment only
 .\n\nThere's a CASH hat collection to pay the guests and help cover costs.
  The minimum suggested contribution is £6 per head\, but please give more
  if you can afford it.\n\nAfter 6 there's a Quiche &amp\; salad supper opt
 ion &amp\; subject to demand\, time for a few more floorspots.\n\nHere's t
 he full line-up &amp\; running order:\n\n 	13.30-14.15 Open Mic\n 	14.15-1
 4.30 Robin Slater\n 	14.30-14.45 Pat Dobson\n 	14.45-15.05 Medway Folk (Pa
 uline Gaunt\, Neil &amp\; Janet Payne)\n 	15.05-15.25 Sebastian Handley\n 
 	15.25-15.40 BREAK\n 	15.40-16.00 The Flipcharts (John Pead\, Richard Ahsa
 m &amp\; Mike Simms)\n 	16.00 16.20 Curtis Savage &amp\; Mieko Kanai\n 	16
 .20-16.40 Mark Newlove\n 	16.40-17.00 Allison Morey\n 	17.00-18.00 Holly's
  Buddies\n 	18.00-18.20 Quiche &amp\; Salad Supper\n 	18-20-19.00 Option o
 f additional floorspots .. subject to demand\n\nSound- Paul Green /Tony Do
 bson\nMC - Gel Ford\n\n&nbsp\;
CATEGORIES:Music
END:VEVENT
BEGIN:VTIMEZONE
TZID:Europe/London
X-LIC-LOCATION:Europe/London
BEGIN:DAYLIGHT
DTSTART:20250330T020000
TZOFFSETFROM:+0000
TZOFFSETTO:+0100
TZNAME:BST
END:DAYLIGHT
END:VTIMEZONE
END:VCALENDAR