BEGIN:VCALENDAR
VERSION:2.0
PRODID:-//wp-events-plugin.com//7.2.3.1//EN
TZID:Europe/London
X-WR-TIMEZONE:Europe/London
BEGIN:VEVENT
UID:1178@orpingtonliberalclub.co.uk
DTSTART;TZID=Europe/London:20250802T200000
DTEND;TZID=Europe/London:20250802T221500
DTSTAMP:20250722T144222Z
URL:https://orpingtonliberalclub.co.uk/events/andy-twyman-sister-susie/
SUMMARY:Andy Twyman & Sister Susie
DESCRIPTION:Hosted by Steve Wehrle.\n\nYou are sure of a good night with bl
 ues and humour!\n\nTickets are £10 each. For bookings\, please get in tou
 ch with Steve on 07801 089375.\n\nThe OLC premises will be open on the nig
 ht from 19.00 hrs with the music set to start at 20.00 hrs.\n\nPlease try 
 to get there a bit earlier to allow time to order your drinks &amp\; find 
 a seat.\n\nThe CAMRA award-winning club bar is card payments only.\n\nArti
 sts Website andytwyman.com
CATEGORIES:Music
END:VEVENT
BEGIN:VTIMEZONE
TZID:Europe/London
X-LIC-LOCATION:Europe/London
BEGIN:DAYLIGHT
DTSTART:20250330T020000
TZOFFSETFROM:+0000
TZOFFSETTO:+0100
TZNAME:BST
END:DAYLIGHT
END:VTIMEZONE
END:VCALENDAR